BEGIN:VCALENDAR
VERSION:2.0
PRODID:-//Deutsch-Nepalische Gesellschaft e. V. - ECPv6.15.16//NONSGML v1.0//EN
CALSCALE:GREGORIAN
METHOD:PUBLISH
X-ORIGINAL-URL:https://deutsch-nepal.de
X-WR-CALDESC:Veranstaltungen für Deutsch-Nepalische Gesellschaft e. V.
REFRESH-INTERVAL;VALUE=DURATION:PT1H
X-Robots-Tag:noindex
X-PUBLISHED-TTL:PT1H
BEGIN:VTIMEZONE
TZID:Europe/Berlin
BEGIN:DAYLIGHT
TZOFFSETFROM:+0100
TZOFFSETTO:+0200
TZNAME:CEST
DTSTART:20250330T010000
END:DAYLIGHT
BEGIN:STANDARD
TZOFFSETFROM:+0200
TZOFFSETTO:+0100
TZNAME:CET
DTSTART:20251026T010000
END:STANDARD
BEGIN:DAYLIGHT
TZOFFSETFROM:+0100
TZOFFSETTO:+0200
TZNAME:CEST
DTSTART:20260329T010000
END:DAYLIGHT
BEGIN:STANDARD
TZOFFSETFROM:+0200
TZOFFSETTO:+0100
TZNAME:CET
DTSTART:20261025T010000
END:STANDARD
BEGIN:DAYLIGHT
TZOFFSETFROM:+0100
TZOFFSETTO:+0200
TZNAME:CEST
DTSTART:20270328T010000
END:DAYLIGHT
BEGIN:STANDARD
TZOFFSETFROM:+0200
TZOFFSETTO:+0100
TZNAME:CET
DTSTART:20271031T010000
END:STANDARD
END:VTIMEZONE
BEGIN:VEVENT
DTSTART;TZID=Europe/Berlin:20260513T180000
DTEND;TZID=Europe/Berlin:20260513T200000
DTSTAMP:20260419T192556
CREATED:20260217T145711Z
LAST-MODIFIED:20260217T145800Z
UID:1138-1778695200-1778702400@deutsch-nepal.de
SUMMARY:Nepal-Treff - Tibet Family Bistro Kaiserstraße 123\, Siegburg
DESCRIPTION:Der Nepal-Stammtisch\, der immer am zweiten Mittwoch eines Monats in Siegburg stattfinden\, ist ein wichtiger Baustein zur Vernetzung der Mitglieder untereinander. \nDer monatlichen Stammtisch bietet die Gelegenheit des interkulturellen Austausches für Freund*innen des Himalaya-Staates und alle\, die es werden wollen. Über Momos und Milchtee werden aktuelle Themen aus Nepal diskutiert\, Reisetipps ausgetauscht und Anekdoten erzählt. \nNepalis und langjährige Nepalfreunde\, ob aus beruflichen oder privaten Gründen\, teilen ihre Geschichten und Interessierte erhalten einen persönlichen Einblick in die Kultur des fernen Landes\, Tipps für ihre Reiseplanung\, akademische Arbeiten oder einfach einen Eindruck\, was Nepal so faszinierend macht. \nWir freuen uns immer über neue und bekannte Gesichter! \n  \n\nOPNV: Ab Bonn Hbf mit Linie 66 bis Siegburg/Bonn\, dann weiter mit dem Bus oder zu Fuß zur Kaiserstraße 123 \n  \nEine Anmeldung ist nicht zwingend notwendig\, hilft uns jedoch bei der Planung. Wir freuen uns\, wenn Sie das untenstehende Formular nutzen. \n  \n\n	Hinweis: Für diesen Inhalt ist JavaScript erforderlich.
URL:https://deutsch-nepal.de/event/nepal-treff-tibet-family-bistro-kaiserstrasse-123-siegburg-6/
LOCATION:Tibet Family Bistro\, Kaiserstraße 123\, Siegburg\, NRW\, 53721\, Germany
CATEGORIES:Nepaltreff
ATTACH;FMTTYPE=image/png:https://deutsch-nepal.de/wp-content/uploads/2025/06/nepal-treff-2-scaled.png
ORGANIZER;CN="Deutsch-Nepalische Gesellschaft e.V.":MAILTO:info@deutsch-nepal.de
END:VEVENT
BEGIN:VEVENT
DTSTART;TZID=Europe/Berlin:20260610T180000
DTEND;TZID=Europe/Berlin:20260610T200000
DTSTAMP:20260419T192556
CREATED:20260217T145906Z
LAST-MODIFIED:20260217T145906Z
UID:1140-1781114400-1781121600@deutsch-nepal.de
SUMMARY:Nepal-Treff - Tibet Family Bistro Kaiserstraße 123\, Siegburg
DESCRIPTION:Der Nepal-Stammtisch\, der immer am zweiten Mittwoch eines Monats in Siegburg stattfinden\, ist ein wichtiger Baustein zur Vernetzung der Mitglieder untereinander. \nDer monatlichen Stammtisch bietet die Gelegenheit des interkulturellen Austausches für Freund*innen des Himalaya-Staates und alle\, die es werden wollen. Über Momos und Milchtee werden aktuelle Themen aus Nepal diskutiert\, Reisetipps ausgetauscht und Anekdoten erzählt. \nNepalis und langjährige Nepalfreunde\, ob aus beruflichen oder privaten Gründen\, teilen ihre Geschichten und Interessierte erhalten einen persönlichen Einblick in die Kultur des fernen Landes\, Tipps für ihre Reiseplanung\, akademische Arbeiten oder einfach einen Eindruck\, was Nepal so faszinierend macht. \nWir freuen uns immer über neue und bekannte Gesichter! \n  \n\nOPNV: Ab Bonn Hbf mit Linie 66 bis Siegburg/Bonn\, dann weiter mit dem Bus oder zu Fuß zur Kaiserstraße 123 \n  \nEine Anmeldung ist nicht zwingend notwendig\, hilft uns jedoch bei der Planung. Wir freuen uns\, wenn Sie das untenstehende Formular nutzen. \n  \n\n	Hinweis: Für diesen Inhalt ist JavaScript erforderlich.
URL:https://deutsch-nepal.de/event/nepal-treff-tibet-family-bistro-kaiserstrasse-123-siegburg-7/
LOCATION:Tibet Family Bistro\, Kaiserstraße 123\, Siegburg\, NRW\, 53721\, Germany
CATEGORIES:Nepaltreff
ATTACH;FMTTYPE=image/png:https://deutsch-nepal.de/wp-content/uploads/2025/06/nepal-treff-2-scaled.png
ORGANIZER;CN="Deutsch-Nepalische Gesellschaft e.V.":MAILTO:info@deutsch-nepal.de
END:VEVENT
BEGIN:VEVENT
DTSTART;TZID=Europe/Berlin:20260613T080000
DTEND;TZID=Europe/Berlin:20260613T170000
DTSTAMP:20260419T192556
CREATED:20260202T184937Z
LAST-MODIFIED:20260202T185225Z
UID:1125-1781337600-1781370000@deutsch-nepal.de
SUMMARY:37. Nepaltag 2026
DESCRIPTION:Save the Date\n37. Nepaltag erwartet Sie ein spannender und vielfältiger Tag voller kultureller Eindrücke\, gesellschaftlicher Diskussionen\, interessanter Vorträge und lebhafter Begegnungen. Ob Mitglied der DNG oder einfach nur Nepal-interessiert – Sie sind herzlich willkommen! \n \n  \nDetails folgen… \n 
URL:https://deutsch-nepal.de/event/37-nepaltag-2026/
LOCATION:Gustav Stresemann Institute\, Langer Grabenweg 68\, Bonn\, NRW\, 53175\, Germany
CATEGORIES:Nepaltag
ATTACH;FMTTYPE=image/jpeg:https://deutsch-nepal.de/wp-content/uploads/2026/02/nepal-tag-2026.jpg
ORGANIZER;CN="Deutsch-Nepalische Gesellschaft e.V.":MAILTO:info@deutsch-nepal.de
END:VEVENT
BEGIN:VEVENT
DTSTART;TZID=Europe/Berlin:20260708T180000
DTEND;TZID=Europe/Berlin:20260708T200000
DTSTAMP:20260419T192556
CREATED:20260217T150023Z
LAST-MODIFIED:20260217T150048Z
UID:1142-1783533600-1783540800@deutsch-nepal.de
SUMMARY:Nepal-Treff - Tibet Family Bistro Kaiserstraße 123\, Siegburg
DESCRIPTION:Der Nepal-Stammtisch\, der immer am zweiten Mittwoch eines Monats in Siegburg stattfinden\, ist ein wichtiger Baustein zur Vernetzung der Mitglieder untereinander. \nDer monatlichen Stammtisch bietet die Gelegenheit des interkulturellen Austausches für Freund*innen des Himalaya-Staates und alle\, die es werden wollen. Über Momos und Milchtee werden aktuelle Themen aus Nepal diskutiert\, Reisetipps ausgetauscht und Anekdoten erzählt. \nNepalis und langjährige Nepalfreunde\, ob aus beruflichen oder privaten Gründen\, teilen ihre Geschichten und Interessierte erhalten einen persönlichen Einblick in die Kultur des fernen Landes\, Tipps für ihre Reiseplanung\, akademische Arbeiten oder einfach einen Eindruck\, was Nepal so faszinierend macht. \nWir freuen uns immer über neue und bekannte Gesichter! \n  \n\nOPNV: Ab Bonn Hbf mit Linie 66 bis Siegburg/Bonn\, dann weiter mit dem Bus oder zu Fuß zur Kaiserstraße 123 \n  \nEine Anmeldung ist nicht zwingend notwendig\, hilft uns jedoch bei der Planung. Wir freuen uns\, wenn Sie das untenstehende Formular nutzen. \n  \n\n	Hinweis: Für diesen Inhalt ist JavaScript erforderlich.
URL:https://deutsch-nepal.de/event/nepal-treff-tibet-family-bistro-kaiserstrasse-123-siegburg-8/
LOCATION:Tibet Family Bistro\, Kaiserstraße 123\, Siegburg\, NRW\, 53721\, Germany
CATEGORIES:Nepaltreff
ATTACH;FMTTYPE=image/png:https://deutsch-nepal.de/wp-content/uploads/2025/06/nepal-treff-2-scaled.png
ORGANIZER;CN="Deutsch-Nepalische Gesellschaft e.V.":MAILTO:info@deutsch-nepal.de
END:VEVENT
BEGIN:VEVENT
DTSTART;TZID=Europe/Berlin:20260812T180000
DTEND;TZID=Europe/Berlin:20260812T200000
DTSTAMP:20260419T192556
CREATED:20260217T150209Z
LAST-MODIFIED:20260217T150209Z
UID:1144-1786557600-1786564800@deutsch-nepal.de
SUMMARY:Nepal-Treff - Tibet Family Bistro Kaiserstraße 123\, Siegburg
DESCRIPTION:Der Nepal-Stammtisch\, der immer am zweiten Mittwoch eines Monats in Siegburg stattfinden\, ist ein wichtiger Baustein zur Vernetzung der Mitglieder untereinander. \nDer monatlichen Stammtisch bietet die Gelegenheit des interkulturellen Austausches für Freund*innen des Himalaya-Staates und alle\, die es werden wollen. Über Momos und Milchtee werden aktuelle Themen aus Nepal diskutiert\, Reisetipps ausgetauscht und Anekdoten erzählt. \nNepalis und langjährige Nepalfreunde\, ob aus beruflichen oder privaten Gründen\, teilen ihre Geschichten und Interessierte erhalten einen persönlichen Einblick in die Kultur des fernen Landes\, Tipps für ihre Reiseplanung\, akademische Arbeiten oder einfach einen Eindruck\, was Nepal so faszinierend macht. \nWir freuen uns immer über neue und bekannte Gesichter! \n  \n\nOPNV: Ab Bonn Hbf mit Linie 66 bis Siegburg/Bonn\, dann weiter mit dem Bus oder zu Fuß zur Kaiserstraße 123 \n  \nEine Anmeldung ist nicht zwingend notwendig\, hilft uns jedoch bei der Planung. Wir freuen uns\, wenn Sie das untenstehende Formular nutzen. \n  \n\n	Hinweis: Für diesen Inhalt ist JavaScript erforderlich.
URL:https://deutsch-nepal.de/event/nepal-treff-tibet-family-bistro-kaiserstrasse-123-siegburg-9/
LOCATION:Tibet Family Bistro\, Kaiserstraße 123\, Siegburg\, NRW\, 53721\, Germany
CATEGORIES:Nepaltreff
ATTACH;FMTTYPE=image/png:https://deutsch-nepal.de/wp-content/uploads/2025/06/nepal-treff-2-scaled.png
ORGANIZER;CN="Deutsch-Nepalische Gesellschaft e.V.":MAILTO:info@deutsch-nepal.de
END:VEVENT
BEGIN:VEVENT
DTSTART;TZID=Europe/Berlin:20260909T180000
DTEND;TZID=Europe/Berlin:20260909T200000
DTSTAMP:20260419T192556
CREATED:20260217T150306Z
LAST-MODIFIED:20260217T150306Z
UID:1146-1788976800-1788984000@deutsch-nepal.de
SUMMARY:Nepal-Treff - Tibet Family Bistro Kaiserstraße 123\, Siegburg
DESCRIPTION:Der Nepal-Stammtisch\, der immer am zweiten Mittwoch eines Monats in Siegburg stattfinden\, ist ein wichtiger Baustein zur Vernetzung der Mitglieder untereinander. \nDer monatlichen Stammtisch bietet die Gelegenheit des interkulturellen Austausches für Freund*innen des Himalaya-Staates und alle\, die es werden wollen. Über Momos und Milchtee werden aktuelle Themen aus Nepal diskutiert\, Reisetipps ausgetauscht und Anekdoten erzählt. \nNepalis und langjährige Nepalfreunde\, ob aus beruflichen oder privaten Gründen\, teilen ihre Geschichten und Interessierte erhalten einen persönlichen Einblick in die Kultur des fernen Landes\, Tipps für ihre Reiseplanung\, akademische Arbeiten oder einfach einen Eindruck\, was Nepal so faszinierend macht. \nWir freuen uns immer über neue und bekannte Gesichter! \n  \n\nOPNV: Ab Bonn Hbf mit Linie 66 bis Siegburg/Bonn\, dann weiter mit dem Bus oder zu Fuß zur Kaiserstraße 123 \n  \nEine Anmeldung ist nicht zwingend notwendig\, hilft uns jedoch bei der Planung. Wir freuen uns\, wenn Sie das untenstehende Formular nutzen. \n  \n\n	Hinweis: Für diesen Inhalt ist JavaScript erforderlich.
URL:https://deutsch-nepal.de/event/nepal-treff-tibet-family-bistro-kaiserstrasse-123-siegburg-10/
LOCATION:Tibet Family Bistro\, Kaiserstraße 123\, Siegburg\, NRW\, 53721\, Germany
CATEGORIES:Nepaltreff
ATTACH;FMTTYPE=image/png:https://deutsch-nepal.de/wp-content/uploads/2025/06/nepal-treff-2-scaled.png
ORGANIZER;CN="Deutsch-Nepalische Gesellschaft e.V.":MAILTO:info@deutsch-nepal.de
END:VEVENT
BEGIN:VEVENT
DTSTART;TZID=Europe/Berlin:20261014T180000
DTEND;TZID=Europe/Berlin:20261014T200000
DTSTAMP:20260419T192556
CREATED:20260217T150351Z
LAST-MODIFIED:20260217T150351Z
UID:1148-1792000800-1792008000@deutsch-nepal.de
SUMMARY:Nepal-Treff - Tibet Family Bistro Kaiserstraße 123\, Siegburg
DESCRIPTION:Der Nepal-Stammtisch\, der immer am zweiten Mittwoch eines Monats in Siegburg stattfinden\, ist ein wichtiger Baustein zur Vernetzung der Mitglieder untereinander. \nDer monatlichen Stammtisch bietet die Gelegenheit des interkulturellen Austausches für Freund*innen des Himalaya-Staates und alle\, die es werden wollen. Über Momos und Milchtee werden aktuelle Themen aus Nepal diskutiert\, Reisetipps ausgetauscht und Anekdoten erzählt. \nNepalis und langjährige Nepalfreunde\, ob aus beruflichen oder privaten Gründen\, teilen ihre Geschichten und Interessierte erhalten einen persönlichen Einblick in die Kultur des fernen Landes\, Tipps für ihre Reiseplanung\, akademische Arbeiten oder einfach einen Eindruck\, was Nepal so faszinierend macht. \nWir freuen uns immer über neue und bekannte Gesichter! \n  \n\nOPNV: Ab Bonn Hbf mit Linie 66 bis Siegburg/Bonn\, dann weiter mit dem Bus oder zu Fuß zur Kaiserstraße 123 \n  \nEine Anmeldung ist nicht zwingend notwendig\, hilft uns jedoch bei der Planung. Wir freuen uns\, wenn Sie das untenstehende Formular nutzen. \n  \n\n	Hinweis: Für diesen Inhalt ist JavaScript erforderlich.
URL:https://deutsch-nepal.de/event/nepal-treff-tibet-family-bistro-kaiserstrasse-123-siegburg-11/
LOCATION:Tibet Family Bistro\, Kaiserstraße 123\, Siegburg\, NRW\, 53721\, Germany
CATEGORIES:Nepaltreff
ATTACH;FMTTYPE=image/png:https://deutsch-nepal.de/wp-content/uploads/2025/06/nepal-treff-2-scaled.png
ORGANIZER;CN="Deutsch-Nepalische Gesellschaft e.V.":MAILTO:info@deutsch-nepal.de
END:VEVENT
BEGIN:VEVENT
DTSTART;TZID=Europe/Berlin:20261111T180000
DTEND;TZID=Europe/Berlin:20261111T200000
DTSTAMP:20260419T192556
CREATED:20260217T150452Z
LAST-MODIFIED:20260217T150452Z
UID:1150-1794420000-1794427200@deutsch-nepal.de
SUMMARY:Nepal-Treff - Tibet Family Bistro Kaiserstraße 123\, Siegburg
DESCRIPTION:Der Nepal-Stammtisch\, der immer am zweiten Mittwoch eines Monats in Siegburg stattfinden\, ist ein wichtiger Baustein zur Vernetzung der Mitglieder untereinander. \nDer monatlichen Stammtisch bietet die Gelegenheit des interkulturellen Austausches für Freund*innen des Himalaya-Staates und alle\, die es werden wollen. Über Momos und Milchtee werden aktuelle Themen aus Nepal diskutiert\, Reisetipps ausgetauscht und Anekdoten erzählt. \nNepalis und langjährige Nepalfreunde\, ob aus beruflichen oder privaten Gründen\, teilen ihre Geschichten und Interessierte erhalten einen persönlichen Einblick in die Kultur des fernen Landes\, Tipps für ihre Reiseplanung\, akademische Arbeiten oder einfach einen Eindruck\, was Nepal so faszinierend macht. \nWir freuen uns immer über neue und bekannte Gesichter! \n  \n\nOPNV: Ab Bonn Hbf mit Linie 66 bis Siegburg/Bonn\, dann weiter mit dem Bus oder zu Fuß zur Kaiserstraße 123 \n  \nEine Anmeldung ist nicht zwingend notwendig\, hilft uns jedoch bei der Planung. Wir freuen uns\, wenn Sie das untenstehende Formular nutzen. \n  \n\n	Hinweis: Für diesen Inhalt ist JavaScript erforderlich.
URL:https://deutsch-nepal.de/event/nepal-treff-tibet-family-bistro-kaiserstrasse-123-siegburg-12/
LOCATION:Tibet Family Bistro\, Kaiserstraße 123\, Siegburg\, NRW\, 53721\, Germany
CATEGORIES:Nepaltreff
ATTACH;FMTTYPE=image/png:https://deutsch-nepal.de/wp-content/uploads/2025/06/nepal-treff-2-scaled.png
ORGANIZER;CN="Deutsch-Nepalische Gesellschaft e.V.":MAILTO:info@deutsch-nepal.de
END:VEVENT
BEGIN:VEVENT
DTSTART;TZID=Europe/Berlin:20261115T100000
DTEND;TZID=Europe/Berlin:20261115T140000
DTSTAMP:20260419T192556
CREATED:20260217T150919Z
LAST-MODIFIED:20260217T150919Z
UID:1154-1794736800-1794751200@deutsch-nepal.de
SUMMARY:Nepal Lichterfest 2026
DESCRIPTION:Tihar\, eines der am meisten geschätzten Feste Nepals\, ist eine lebendige Feier\, die sich über fünf Tage erstreckt und die tiefen Verbindungen zwischen Mensch\, Tier und Göttlichem ehrt. Bekannt als das „Lichterfest“ erleuchtet es Häuser und Herzen mit Öllampen\, farbenfrohen Dekorationen und feierlichen Ritualen. Jeder Tag von Tihar hat seine eigene besondere Bedeutung\, von der Verehrung von Krähen und Hunden als Wächter bis hin zur Feier der besonderen Verbindung zwischen Brüdern und Schwestern. Begleiten Sie uns\, während wir die Essenz von Tihar mit Musik\, Freude und dem Geist der Gemeinschaft zum Leben erwecken. \n  \n \n  \nWir laden Sie herzlich dazu ein!\nWie in den vorherigen Jahren möchten wir auch dieses Jahr gemeinsam mit Nepalis\, Mitgliedern\, Freunden und Kindern das Lichterfest -Tihar feiern. Wir würden uns darüber freuen\, wenn auch Sie daran teilnehmen.\n\n \n\n\n\nVeranstaltungsort:\nINTERNATIONALES CARITAS-ZENTRUM\nZülpicher Str. 273 b\, 50937 Köln.\nAnfahrt: KVB Linie 9\, Haltestelle: Lindenburg (Kirche St.-Karl-Borromäus).\nAnmeldung: info@deutsch-nepal.de oder über Facebook (Bitte melden Sie sich unter Angabe der Personenzahl)\n \n\n\n\nProgram: folgt\n\nBitte melden Sie sich unter Angabe der Personenzahl an\, unter:\ninfo@deutsch-nepal.de oder über Facebook \n 
URL:https://deutsch-nepal.de/event/nepal-lichterfest-2026/
LOCATION:Internationales Zentrum Caritas Köln\, Zülpicher Str. 273B\, Köln\, NRW\, 50937\, Germany
CATEGORIES:Kultur
ATTACH;FMTTYPE=image/jpeg:https://deutsch-nepal.de/wp-content/uploads/2023/11/thiar.jpg
ORGANIZER;CN="Deutsch-Nepalische Gesellschaft e.V.":MAILTO:info@deutsch-nepal.de
END:VEVENT
BEGIN:VEVENT
DTSTART;TZID=Europe/Berlin:20261209T180000
DTEND;TZID=Europe/Berlin:20261209T200000
DTSTAMP:20260419T192556
CREATED:20260217T150536Z
LAST-MODIFIED:20260217T150536Z
UID:1152-1796839200-1796846400@deutsch-nepal.de
SUMMARY:Nepal-Treff - Tibet Family Bistro Kaiserstraße 123\, Siegburg
DESCRIPTION:Der Nepal-Stammtisch\, der immer am zweiten Mittwoch eines Monats in Siegburg stattfinden\, ist ein wichtiger Baustein zur Vernetzung der Mitglieder untereinander. \nDer monatlichen Stammtisch bietet die Gelegenheit des interkulturellen Austausches für Freund*innen des Himalaya-Staates und alle\, die es werden wollen. Über Momos und Milchtee werden aktuelle Themen aus Nepal diskutiert\, Reisetipps ausgetauscht und Anekdoten erzählt. \nNepalis und langjährige Nepalfreunde\, ob aus beruflichen oder privaten Gründen\, teilen ihre Geschichten und Interessierte erhalten einen persönlichen Einblick in die Kultur des fernen Landes\, Tipps für ihre Reiseplanung\, akademische Arbeiten oder einfach einen Eindruck\, was Nepal so faszinierend macht. \nWir freuen uns immer über neue und bekannte Gesichter! \n  \n\nOPNV: Ab Bonn Hbf mit Linie 66 bis Siegburg/Bonn\, dann weiter mit dem Bus oder zu Fuß zur Kaiserstraße 123 \n  \nEine Anmeldung ist nicht zwingend notwendig\, hilft uns jedoch bei der Planung. Wir freuen uns\, wenn Sie das untenstehende Formular nutzen. \n  \n\n	Hinweis: Für diesen Inhalt ist JavaScript erforderlich.
URL:https://deutsch-nepal.de/event/nepal-treff-tibet-family-bistro-kaiserstrasse-123-siegburg-13/
LOCATION:Tibet Family Bistro\, Kaiserstraße 123\, Siegburg\, NRW\, 53721\, Germany
CATEGORIES:Nepaltreff
ATTACH;FMTTYPE=image/png:https://deutsch-nepal.de/wp-content/uploads/2025/06/nepal-treff-2-scaled.png
ORGANIZER;CN="Deutsch-Nepalische Gesellschaft e.V.":MAILTO:info@deutsch-nepal.de
END:VEVENT
END:VCALENDAR